BEGIN:VCALENDAR
VERSION:2.0
PRODID:-//Shark Bait Dive Club - ECPv6.15.20//NONSGML v1.0//EN
CALSCALE:GREGORIAN
METHOD:PUBLISH
X-WR-CALNAME:Shark Bait Dive Club
X-ORIGINAL-URL:https://sharkbaitdiveclub.org
X-WR-CALDESC:Events for Shark Bait Dive Club
REFRESH-INTERVAL;VALUE=DURATION:PT1H
X-Robots-Tag:noindex
X-PUBLISHED-TTL:PT1H
BEGIN:VTIMEZONE
TZID:America/Los_Angeles
BEGIN:DAYLIGHT
TZOFFSETFROM:-0800
TZOFFSETTO:-0700
TZNAME:PDT
DTSTART:20250309T100000
END:DAYLIGHT
BEGIN:STANDARD
TZOFFSETFROM:-0700
TZOFFSETTO:-0800
TZNAME:PST
DTSTART:20251102T090000
END:STANDARD
BEGIN:DAYLIGHT
TZOFFSETFROM:-0800
TZOFFSETTO:-0700
TZNAME:PDT
DTSTART:20260308T100000
END:DAYLIGHT
BEGIN:STANDARD
TZOFFSETFROM:-0700
TZOFFSETTO:-0800
TZNAME:PST
DTSTART:20261101T090000
END:STANDARD
BEGIN:DAYLIGHT
TZOFFSETFROM:-0800
TZOFFSETTO:-0700
TZNAME:PDT
DTSTART:20270314T100000
END:DAYLIGHT
BEGIN:STANDARD
TZOFFSETFROM:-0700
TZOFFSETTO:-0800
TZNAME:PST
DTSTART:20271107T090000
END:STANDARD
END:VTIMEZONE
BEGIN:VEVENT
DTSTART;TZID=America/Los_Angeles:20260412T070000
DTEND;TZID=America/Los_Angeles:20260412T100000
DTSTAMP:20260423T130610
CREATED:20260405T185943Z
LAST-MODIFIED:20260405T190217Z
UID:10853-1775977200-1775988000@sharkbaitdiveclub.org
SUMMARY:Monthly Beach Dive
DESCRIPTION:Our next Club Beach Dive on Sunday\, April 12th at 7:00 a.m. at Little Corona in Laguna Beach.  Wait to suit up after the dive orientation. See the newsletter for directions (www.sharkbaitdiveclub.org) and orientation to the dive site. \nRSVP Martin (714-833-9167) if you haven’t already! \nQuestions? Email sharkbaitdive@gmail.com or call Martin. \n 
URL:https://sharkbaitdiveclub.org/event/monthly-beach-dive-4/
END:VEVENT
BEGIN:VEVENT
DTSTART;TZID=America/Los_Angeles:20260311T183000
DTEND;TZID=America/Los_Angeles:20260311T203000
DTSTAMP:20260423T130610
CREATED:20260306T211912Z
LAST-MODIFIED:20260405T190308Z
UID:10843-1773253800-1773261000@sharkbaitdiveclub.org
SUMMARY:Monthly Shark Bait Dive Club Meeting
DESCRIPTION:
URL:https://sharkbaitdiveclub.org/event/monthly-shark-bait-dive-club-meeting/
END:VEVENT
BEGIN:VEVENT
DTSTART;TZID=America/Los_Angeles:20260306T080000
DTEND;TZID=America/Los_Angeles:20260306T170000
DTSTAMP:20260423T130610
CREATED:20260306T212057Z
LAST-MODIFIED:20260306T212057Z
UID:10845-1772784000-1772816400@sharkbaitdiveclub.org
SUMMARY:Monthly Beach Dive
DESCRIPTION:Our next Club Beach Dive on Sunday\, March 15th at 7:00 a.m. at Crescent Cove in Laguna Beach.  Wait to suit up after the dive orientation. See the newsletter for directions (www.sharkbaitdiveclub.org) and orientation to the dive site. \nRSVP Martin (714-833-9167) if you haven’t already! \nQuestions? Email sharkbaitdive@gmail.com or call Martin.
URL:https://sharkbaitdiveclub.org/event/monthly-beach-dive-3/
END:VEVENT
BEGIN:VEVENT
DTSTART;TZID=America/Los_Angeles:20260215T070000
DTEND;TZID=America/Los_Angeles:20260215T100000
DTSTAMP:20260423T130610
CREATED:20260207T222951Z
LAST-MODIFIED:20260207T223346Z
UID:10830-1771138800-1771149600@sharkbaitdiveclub.org
SUMMARY:Monthly Beach Dive
DESCRIPTION:Our next Club Beach Dive on Sunday\, February 15th at 7:00 a.m. at Woods Cove in Laguna Beach.  Wait to suit up after the dive orientation. See the newsletter for directions (www.sharkbaitdiveclub.org) and orientation to the dive site. \nRSVP Martin (714-833-9167) if you haven’t already! \nQuestions? Email sharkbaitdive@gmail.com or call Martin.
URL:https://sharkbaitdiveclub.org/event/monthly-beach-dive-2/
END:VEVENT
BEGIN:VEVENT
DTSTART;TZID=America/Los_Angeles:20260210T183000
DTEND;TZID=America/Los_Angeles:20260210T200000
DTSTAMP:20260423T130610
CREATED:20260207T222829Z
LAST-MODIFIED:20260207T222842Z
UID:10828-1770748200-1770753600@sharkbaitdiveclub.org
SUMMARY:SharkBait Dive Club Monthly Meeting
DESCRIPTION:
URL:https://sharkbaitdiveclub.org/event/sharkbait-dive-club-monthly-meeting/
END:VEVENT
BEGIN:VEVENT
DTSTART;TZID=America/Los_Angeles:20260113T183000
DTEND;TZID=America/Los_Angeles:20260113T200000
DTSTAMP:20260423T130610
CREATED:20260103T223516Z
LAST-MODIFIED:20260103T224107Z
UID:10795-1768329000-1768334400@sharkbaitdiveclub.org
SUMMARY:Shark Bait Dive Club Monthly Meeting
DESCRIPTION:
URL:https://sharkbaitdiveclub.org/event/shark-bait-dive-club-monthly-meeting/
LOCATION:Dennys\, 17568 Yorba Linda Blvd\, Yorba Linda\, CA\, 92886\, United States
END:VEVENT
BEGIN:VEVENT
DTSTART;TZID=America/Los_Angeles:20260103T070000
DTEND;TZID=America/Los_Angeles:20260103T100000
DTSTAMP:20260423T130610
CREATED:20260103T223753Z
LAST-MODIFIED:20260103T224026Z
UID:10798-1767423600-1767434400@sharkbaitdiveclub.org
SUMMARY:Monthly Beach Dive
DESCRIPTION: \nOur next Club Beach Dive on Sunday\, January 18th at 7:00 a.m. at Victoria St in Laguna Beach.  Wait to suit up after the dive orientation. See the newsletter for directions (www.sharkbaitdiveclub.org) and orientation to the dive site. \nRSVP Martin (714-833-9167) if you haven’t already! \nQuestions? Email sharkbaitdive@gmail.com or call Martin.
URL:https://sharkbaitdiveclub.org/event/monthly-beach-dive/
END:VEVENT
END:VCALENDAR