BEGIN:VCALENDAR
VERSION:2.0
PRODID:-//Shark Bait Dive Club - ECPv6.15.20//NONSGML v1.0//EN
CALSCALE:GREGORIAN
METHOD:PUBLISH
X-WR-CALNAME:Shark Bait Dive Club
X-ORIGINAL-URL:https://sharkbaitdiveclub.org
X-WR-CALDESC:Events for Shark Bait Dive Club
REFRESH-INTERVAL;VALUE=DURATION:PT1H
X-Robots-Tag:noindex
X-PUBLISHED-TTL:PT1H
BEGIN:VTIMEZONE
TZID:America/Los_Angeles
BEGIN:DAYLIGHT
TZOFFSETFROM:-0800
TZOFFSETTO:-0700
TZNAME:PDT
DTSTART:20250309T100000
END:DAYLIGHT
BEGIN:STANDARD
TZOFFSETFROM:-0700
TZOFFSETTO:-0800
TZNAME:PST
DTSTART:20251102T090000
END:STANDARD
BEGIN:DAYLIGHT
TZOFFSETFROM:-0800
TZOFFSETTO:-0700
TZNAME:PDT
DTSTART:20260308T100000
END:DAYLIGHT
BEGIN:STANDARD
TZOFFSETFROM:-0700
TZOFFSETTO:-0800
TZNAME:PST
DTSTART:20261101T090000
END:STANDARD
BEGIN:DAYLIGHT
TZOFFSETFROM:-0800
TZOFFSETTO:-0700
TZNAME:PDT
DTSTART:20270314T100000
END:DAYLIGHT
BEGIN:STANDARD
TZOFFSETFROM:-0700
TZOFFSETTO:-0800
TZNAME:PST
DTSTART:20271107T090000
END:STANDARD
END:VTIMEZONE
BEGIN:VEVENT
DTSTART;TZID=America/Los_Angeles:20260311T183000
DTEND;TZID=America/Los_Angeles:20260311T203000
DTSTAMP:20260423T113119
CREATED:20260306T211912Z
LAST-MODIFIED:20260405T190308Z
UID:10843-1773253800-1773261000@sharkbaitdiveclub.org
SUMMARY:Monthly Shark Bait Dive Club Meeting
DESCRIPTION:
URL:https://sharkbaitdiveclub.org/event/monthly-shark-bait-dive-club-meeting/
END:VEVENT
BEGIN:VEVENT
DTSTART;TZID=America/Los_Angeles:20260412T070000
DTEND;TZID=America/Los_Angeles:20260412T100000
DTSTAMP:20260423T113119
CREATED:20260405T185943Z
LAST-MODIFIED:20260405T190217Z
UID:10853-1775977200-1775988000@sharkbaitdiveclub.org
SUMMARY:Monthly Beach Dive
DESCRIPTION:Our next Club Beach Dive on Sunday\, April 12th at 7:00 a.m. at Little Corona in Laguna Beach.  Wait to suit up after the dive orientation. See the newsletter for directions (www.sharkbaitdiveclub.org) and orientation to the dive site. \nRSVP Martin (714-833-9167) if you haven’t already! \nQuestions? Email sharkbaitdive@gmail.com or call Martin. \n 
URL:https://sharkbaitdiveclub.org/event/monthly-beach-dive-4/
END:VEVENT
BEGIN:VEVENT
DTSTART;TZID=America/Los_Angeles:20260414T183000
DTEND;TZID=America/Los_Angeles:20260414T203000
DTSTAMP:20260423T113119
CREATED:20260405T185716Z
LAST-MODIFIED:20260405T185754Z
UID:10851-1776191400-1776198600@sharkbaitdiveclub.org
SUMMARY:Monthly Shark Bait Dive Club Meeting
DESCRIPTION:
URL:https://sharkbaitdiveclub.org/event/monthly-shark-bait-dive-club-meeting-2/
END:VEVENT
BEGIN:VEVENT
DTSTART;TZID=America/Los_Angeles:20260418T070000
DTEND;TZID=America/Los_Angeles:20260418T170000
DTSTAMP:20260423T113119
CREATED:20260405T190446Z
LAST-MODIFIED:20260405T190514Z
UID:10857-1776495600-1776531600@sharkbaitdiveclub.org
SUMMARY:Monthly Boat Dive to Catalina
DESCRIPTION:From Chuck Wade\n“Sundiver Express for a 3 tank dive at Catalina on Saturday April 18 if anyone wants to join me. $200 includes 3 dives with tanks breakfast and lunch included. Boarding in Long Beach at 7:00 AM. Booking is available on their website. Book early.”\n\n\n\n\n 
URL:https://sharkbaitdiveclub.org/event/monthly-boat-dive-to-catalina/
END:VEVENT
END:VCALENDAR