BEGIN:VCALENDAR
VERSION:2.0
PRODID:-//Shark Bait Dive Club - ECPv6.15.20//NONSGML v1.0//EN
CALSCALE:GREGORIAN
METHOD:PUBLISH
X-ORIGINAL-URL:https://sharkbaitdiveclub.org
X-WR-CALDESC:Events for Shark Bait Dive Club
REFRESH-INTERVAL;VALUE=DURATION:PT1H
X-Robots-Tag:noindex
X-PUBLISHED-TTL:PT1H
BEGIN:VTIMEZONE
TZID:America/Los_Angeles
BEGIN:DAYLIGHT
TZOFFSETFROM:-0800
TZOFFSETTO:-0700
TZNAME:PDT
DTSTART:20250309T100000
END:DAYLIGHT
BEGIN:STANDARD
TZOFFSETFROM:-0700
TZOFFSETTO:-0800
TZNAME:PST
DTSTART:20251102T090000
END:STANDARD
BEGIN:DAYLIGHT
TZOFFSETFROM:-0800
TZOFFSETTO:-0700
TZNAME:PDT
DTSTART:20260308T100000
END:DAYLIGHT
BEGIN:STANDARD
TZOFFSETFROM:-0700
TZOFFSETTO:-0800
TZNAME:PST
DTSTART:20261101T090000
END:STANDARD
BEGIN:DAYLIGHT
TZOFFSETFROM:-0800
TZOFFSETTO:-0700
TZNAME:PDT
DTSTART:20270314T100000
END:DAYLIGHT
BEGIN:STANDARD
TZOFFSETFROM:-0700
TZOFFSETTO:-0800
TZNAME:PST
DTSTART:20271107T090000
END:STANDARD
END:VTIMEZONE
BEGIN:VEVENT
DTSTART;TZID=America/Los_Angeles:20260306T080000
DTEND;TZID=America/Los_Angeles:20260306T170000
DTSTAMP:20260423T082544
CREATED:20260306T212057Z
LAST-MODIFIED:20260306T212057Z
UID:10845-1772784000-1772816400@sharkbaitdiveclub.org
SUMMARY:Monthly Beach Dive
DESCRIPTION:Our next Club Beach Dive on Sunday\, March 15th at 7:00 a.m. at Crescent Cove in Laguna Beach.  Wait to suit up after the dive orientation. See the newsletter for directions (www.sharkbaitdiveclub.org) and orientation to the dive site. \nRSVP Martin (714-833-9167) if you haven’t already! \nQuestions? Email sharkbaitdive@gmail.com or call Martin.
URL:https://sharkbaitdiveclub.org/event/monthly-beach-dive-3/
END:VEVENT
BEGIN:VEVENT
DTSTART;TZID=America/Los_Angeles:20260311T183000
DTEND;TZID=America/Los_Angeles:20260311T203000
DTSTAMP:20260423T082544
CREATED:20260306T211912Z
LAST-MODIFIED:20260405T190308Z
UID:10843-1773253800-1773261000@sharkbaitdiveclub.org
SUMMARY:Monthly Shark Bait Dive Club Meeting
DESCRIPTION:
URL:https://sharkbaitdiveclub.org/event/monthly-shark-bait-dive-club-meeting/
END:VEVENT
END:VCALENDAR